BEGIN:VCALENDAR
PRODID:-//PUBBLE//agenda//NL
VERSION:2.0
METHOD:PUBLISH
BEGIN:VEVENT
DTSTART:20260414T160329Z
DTEND:20260427T120000Z
DTSTAMP:20260420T022401Z
UID:5f1b5387-76cb-440f-8980-908e188d94d9
CREATED:20260420T022401Z
NAME:Koningsdag in het Stationshuis buitenhofbruist.nl
X-WR-CALNAME:Koningsdag in het Stationshuis
X-ALT-DESC;FMTTYPE=text/html:<a href='/agenda/2026/4/27/koningsdag-in-het-stationshuis-15895'>/agenda/2026/4/27/koningsdag-in-het-stationshuis-15895</a> || <p>Op maandag 27 april 2026 vieren we Koningsdag in het Stationshuis met een kleedjesmarkt en diverse activiteiten voor iedereen uit de wijk. Een dag vol oranje, creativiteit en gezelligheid!</p><p><span class="Bold" cstyle="Bold" style="color: rgba(0, 0, 0, 1)"><strong>Wat is er te doen?</strong></span></p><p>Kleedjesmarkt – Je kunt je oude of nieuwe spullen verkopen op een eigen kleedje. Er is plek voor maximaal 20 kleedjes, VOL = VOl. Graag vragen we je om je eigen kleedje mee te nemen.</p><p><span class="Bold" cstyle="Bold" style="color: rgba(0, 0, 0, 1)"><strong>Doe mee! </strong></span></p><p>Wil je meedoen met een kleedje? Meld je aan om een plekje te bemachtigen op ons website www.newfuturelab.nl/events/koningsdag-bij-het-stationshuis!</p><p><span class="Bold" cstyle="Bold" style="color: rgba(0, 0, 0, 1)"><strong>Open Circus</strong></span></p><p>Doe mee met het open circus van Jasper! Probeer jongleren met balletjes, ringen en doekjes, of ga aan de slag met diabolo’s, dansende stokken en draai bordjes.</p><p><span class="Bold" cstyle="Bold" style="color: rgba(0, 0, 0, 1)"><strong>Spellen &amp; activiteiten</strong></span></p><p>Doe mee met zaklopen, spijkerpoepen, koekhappen, bordspelletjes en kubb.</p><p><span class="Bold" cstyle="Bold" style="color: rgba(0, 0, 0, 1)"><strong>Kinderactiviteiten</strong></span></p><p>Maak een kroontje, laat je schminken met vlaggetjes of leef je uit op het grote krokodillen-springkussen&nbsp;</p><p>Wanneer: Maandag 27 april 2026&nbsp;</p><p>Tijd evenement: 10:00 - 14:00 uur&nbsp;</p><p>Opbouw van je kleedje: 08:00 - 10:00 uur</p><p>Waar: Stationshuis, Delft&nbsp;</p><p>Adres: Marcellus Emantspad 1, 2624VD, Delft Direct naast treinstation Delft Campus</p><p cstyle="Normaal"><span class="Bold" cstyle="Bold" style="color: rgba(0, 0, 0, 1)"><strong>Extra: workshop ochtend voor verkopers</strong></span></p><p>Op zaterdag 25 april organiseren we een workshop ochtend voor iedereen die meedoet aan de kleedjesmarkt. Leer hoe je je spullen presenteert, een goede prijs bepaalt, leert onderhandelen en met meer zelfvertrouwen verkoopt.</p><p>Geef in het aanmeldformulier aan of je ook bij de workshop ochtend aanwezig bent.</p><p>Wanneer workshop: zaterdag 25 april 2026 | 10:00 – 12:00 (inloop vanaf 10:00)</p><p>Waar: Stationshuis, Delft Adres: Marcellus Emantspad 1, 2624VD, Delft</p><p>Kom langs, doe mee en vier Koningsdag samen met ons in het Stationshuis!</p>
DESCRIPTION:<a href='/agenda/2026/4/27/koningsdag-in-het-stationshuis-15895'>/agenda/2026/4/27/koningsdag-in-het-stationshuis-15895</a> || <p>Op maandag 27 april 2026 vieren we Koningsdag in het Stationshuis met een kleedjesmarkt en diverse activiteiten voor iedereen uit de wijk. Een dag vol oranje, creativiteit en gezelligheid!</p><p><span class="Bold" cstyle="Bold" style="color: rgba(0, 0, 0, 1)"><strong>Wat is er te doen?</strong></span></p><p>Kleedjesmarkt – Je kunt je oude of nieuwe spullen verkopen op een eigen kleedje. Er is plek voor maximaal 20 kleedjes, VOL = VOl. Graag vragen we je om je eigen kleedje mee te nemen.</p><p><span class="Bold" cstyle="Bold" style="color: rgba(0, 0, 0, 1)"><strong>Doe mee! </strong></span></p><p>Wil je meedoen met een kleedje? Meld je aan om een plekje te bemachtigen op ons website www.newfuturelab.nl/events/koningsdag-bij-het-stationshuis!</p><p><span class="Bold" cstyle="Bold" style="color: rgba(0, 0, 0, 1)"><strong>Open Circus</strong></span></p><p>Doe mee met het open circus van Jasper! Probeer jongleren met balletjes, ringen en doekjes, of ga aan de slag met diabolo’s, dansende stokken en draai bordjes.</p><p><span class="Bold" cstyle="Bold" style="color: rgba(0, 0, 0, 1)"><strong>Spellen &amp; activiteiten</strong></span></p><p>Doe mee met zaklopen, spijkerpoepen, koekhappen, bordspelletjes en kubb.</p><p><span class="Bold" cstyle="Bold" style="color: rgba(0, 0, 0, 1)"><strong>Kinderactiviteiten</strong></span></p><p>Maak een kroontje, laat je schminken met vlaggetjes of leef je uit op het grote krokodillen-springkussen&nbsp;</p><p>Wanneer: Maandag 27 april 2026&nbsp;</p><p>Tijd evenement: 10:00 - 14:00 uur&nbsp;</p><p>Opbouw van je kleedje: 08:00 - 10:00 uur</p><p>Waar: Stationshuis, Delft&nbsp;</p><p>Adres: Marcellus Emantspad 1, 2624VD, Delft Direct naast treinstation Delft Campus</p><p cstyle="Normaal"><span class="Bold" cstyle="Bold" style="color: rgba(0, 0, 0, 1)"><strong>Extra: workshop ochtend voor verkopers</strong></span></p><p>Op zaterdag 25 april organiseren we een workshop ochtend voor iedereen die meedoet aan de kleedjesmarkt. Leer hoe je je spullen presenteert, een goede prijs bepaalt, leert onderhandelen en met meer zelfvertrouwen verkoopt.</p><p>Geef in het aanmeldformulier aan of je ook bij de workshop ochtend aanwezig bent.</p><p>Wanneer workshop: zaterdag 25 april 2026 | 10:00 – 12:00 (inloop vanaf 10:00)</p><p>Waar: Stationshuis, Delft Adres: Marcellus Emantspad 1, 2624VD, Delft</p><p>Kom langs, doe mee en vier Koningsdag samen met ons in het Stationshuis!</p>
LAST-MODIFIED:20260420T022401Z
LOCATION: Stationshuis | Marcellus Emantspad 1 Delft
SEQUENCE:0
STATUS:CONFIRMED
SUMMARY:Koningsdag in het Stationshuis
TRANSP:OPAQUE
END:VEVENT
END:VCALENDAR
