BEGIN:VCALENDAR
PRODID:-//PUBBLE//agenda//NL
VERSION:2.0
METHOD:PUBLISH
BEGIN:VEVENT
DTSTART:20260415T115816Z
DTEND:20260415T125816Z
DTSTAMP:20260423T144956Z
UID:bc5eb5aa-730a-4b0c-a388-52415b411c31
CREATED:20260423T144956Z
NAME:Leren programmeren met Minecraft 29 april bij de Kinderboerderij in Tanthof! buitenhofbruist.nl
X-WR-CALNAME:Leren programmeren met Minecraft 29 april bij de Kinderboerderij in Tanthof!
X-ALT-DESC;FMTTYPE=text/html:<a href='/agenda/2026/4/29/leren-programmeren-met-minecraft-29-april-bij-de-kinderboerderij-in-tanthof--15952'>/agenda/2026/4/29/leren-programmeren-met-minecraft-29-april-bij-de-kinderboerderij-in-tanthof--15952</a> || <p>Meld je aan bij de www.kinderboerderijtanthof.nl !</p><p>Kom ook naar de workshops Drijvende Steden van de Science Centre!</p><p>Op zaterdag 25 april van 11.00 tot 12.00 en van 12.30 tot 13.30 uur,</p><p>Bij 015Duurzaam in de Energiewinkel, Papsouwselaan 224.</p>
DESCRIPTION:<a href='/agenda/2026/4/29/leren-programmeren-met-minecraft-29-april-bij-de-kinderboerderij-in-tanthof--15952'>/agenda/2026/4/29/leren-programmeren-met-minecraft-29-april-bij-de-kinderboerderij-in-tanthof--15952</a> || <p>Meld je aan bij de www.kinderboerderijtanthof.nl !</p><p>Kom ook naar de workshops Drijvende Steden van de Science Centre!</p><p>Op zaterdag 25 april van 11.00 tot 12.00 en van 12.30 tot 13.30 uur,</p><p>Bij 015Duurzaam in de Energiewinkel, Papsouwselaan 224.</p>
LAST-MODIFIED:20260423T144956Z
LOCATION: Kinderboerderij en Waterspeeltuin | Kalfjeslaan 135 Delft
SEQUENCE:0
STATUS:CONFIRMED
SUMMARY:Leren programmeren met Minecraft 29 april bij de Kinderboerderij in Tanthof!
TRANSP:OPAQUE
END:VEVENT
END:VCALENDAR
