BEGIN:VCALENDAR
PRODID:-//PUBBLE//agenda//NL
VERSION:2.0
METHOD:PUBLISH
BEGIN:VEVENT
DTSTART:20260416T113249Z
DTEND:20260427T140000Z
DTSTAMP:20260422T141306Z
UID:bd5bf62e-ce59-4ec8-9db1-2c2c9252da97
CREATED:20260422T141306Z
NAME:Poptaland Koningsdag! buitenhofbruist.nl
X-WR-CALNAME:Poptaland Koningsdag!
X-ALT-DESC;FMTTYPE=text/html:<a href='/agenda/2026/4/27/poptaland-koningsdag--15964'>/agenda/2026/4/27/poptaland-koningsdag--15964</a> || <p>Kom, doe mee!</p><p>11:30-13:30 Kinderbraderie / Vrijmarkt (aanmelden: 06 41 55 45 92, bel of app)</p><p>15:00 Koningspelen, theatersport en smincken</p>
DESCRIPTION:<a href='/agenda/2026/4/27/poptaland-koningsdag--15964'>/agenda/2026/4/27/poptaland-koningsdag--15964</a> || <p>Kom, doe mee!</p><p>11:30-13:30 Kinderbraderie / Vrijmarkt (aanmelden: 06 41 55 45 92, bel of app)</p><p>15:00 Koningspelen, theatersport en smincken</p>
LAST-MODIFIED:20260422T141306Z
LOCATION: Poptaland | Poptahof Noord  Delft
SEQUENCE:0
STATUS:CONFIRMED
SUMMARY:Poptaland Koningsdag!
TRANSP:OPAQUE
END:VEVENT
END:VCALENDAR
